BEGIN:VCALENDAR
VERSION:2.0
PRODID:-//The Providence Rink - ECPv6.15.20//NONSGML v1.0//EN
CALSCALE:GREGORIAN
METHOD:PUBLISH
X-WR-CALNAME:The Providence Rink
X-ORIGINAL-URL:https://theprovidencerink.com
X-WR-CALDESC:Events for The Providence Rink
REFRESH-INTERVAL;VALUE=DURATION:PT1H
X-Robots-Tag:noindex
X-PUBLISHED-TTL:PT1H
BEGIN:VTIMEZONE
TZID:America/Halifax
BEGIN:DAYLIGHT
TZOFFSETFROM:-0400
TZOFFSETTO:-0300
TZNAME:ADT
DTSTART:20230312T060000
END:DAYLIGHT
BEGIN:STANDARD
TZOFFSETFROM:-0300
TZOFFSETTO:-0400
TZNAME:AST
DTSTART:20231105T050000
END:STANDARD
BEGIN:DAYLIGHT
TZOFFSETFROM:-0400
TZOFFSETTO:-0300
TZNAME:ADT
DTSTART:20240310T060000
END:DAYLIGHT
BEGIN:STANDARD
TZOFFSETFROM:-0300
TZOFFSETTO:-0400
TZNAME:AST
DTSTART:20241103T050000
END:STANDARD
BEGIN:DAYLIGHT
TZOFFSETFROM:-0400
TZOFFSETTO:-0300
TZNAME:ADT
DTSTART:20250309T060000
END:DAYLIGHT
BEGIN:STANDARD
TZOFFSETFROM:-0300
TZOFFSETTO:-0400
TZNAME:AST
DTSTART:20251102T050000
END:STANDARD
BEGIN:DAYLIGHT
TZOFFSETFROM:-0400
TZOFFSETTO:-0300
TZNAME:ADT
DTSTART:20260308T060000
END:DAYLIGHT
BEGIN:STANDARD
TZOFFSETFROM:-0300
TZOFFSETTO:-0400
TZNAME:AST
DTSTART:20261101T050000
END:STANDARD
END:VTIMEZONE
BEGIN:VEVENT
DTSTART;TZID=America/Halifax:20250802T170000
DTEND;TZID=America/Halifax:20250802T220000
DTSTAMP:20260424T113045
CREATED:20250701T180626Z
LAST-MODIFIED:20250701T180642Z
UID:7452-1754154000-1754172000@theprovidencerink.com
SUMMARY:Saturday Roller Disco 3-8PM
DESCRIPTION:Find the Rink transformed into a massive outdoor Roller Disco. Groove to some great music while the pulsing lights and spinning disco ball set the vibe\, right in the heart of downtown. \nSaturday Roller Disco 3:00PM – 8:00PM \nFind the Rink transformed into a massive outdoor Roller Disco. \n \nRoller Skating Rates \nAdults $9.00 \nChildren (12 & Under) $6.00 \nSeniors (65 & Older) $6.00 \nRental Rates \nSkate Rental $8.41* \nLocker Rental $3.00* \nHelmet Rental $2.00* \nWrist Guard Rental $2.00* \n*Sales Tax Applies  \nA limited number of inline and traditional roller skates will be available to rent first come\, first serve. Guests are welcome to bring their own. Online reservations are encouraged.
URL:https://theprovidencerink.com/event/saturday-roller-disco-3-8pm/
END:VEVENT
BEGIN:VEVENT
DTSTART;TZID=America/Halifax:20250801T170000
DTEND;TZID=America/Halifax:20250801T220000
DTSTAMP:20260424T113045
CREATED:20250701T174051Z
LAST-MODIFIED:20250701T174328Z
UID:7426-1754067600-1754085600@theprovidencerink.com
SUMMARY:Roller Disco - Roller Skating
DESCRIPTION:Find the Rink transformed into a massive outdoor Roller Disco. Groove to some great music while the pulsing lights and spinning disco ball set the vibe\, right in the heart of downtown. \nTHURSDAY-FRIDAY FROM 5-10PM \nFind the Rink transformed into a massive outdoor Roller Disco. \n \nRoller Skating Rates \nAdults $9.00 \nChildren (12 & Under) $6.00 \nSeniors (65 & Older) $6.00 \nRental Rates \nSkate Rental $8.41* \nLocker Rental $3.00* \nHelmet Rental $2.00* \nWrist Guard Rental $2.00* \n*Sales Tax Applies  \nA limited number of inline and traditional roller skates will be available to rent first come\, first serve. Guests are welcome to bring their own. Online reservations are encouraged.
URL:https://theprovidencerink.com/event/roller-disco-roller-skating-5/
END:VEVENT
BEGIN:VEVENT
DTSTART;TZID=America/Halifax:20250731T170000
DTEND;TZID=America/Halifax:20250731T220000
DTSTAMP:20260424T113045
CREATED:20250831T175812Z
LAST-MODIFIED:20250701T180014Z
UID:7443-1753981200-1753999200@theprovidencerink.com
SUMMARY:Thursday Roller Disco
DESCRIPTION:Find the Rink transformed into a massive outdoor Roller Disco. Groove to some great music while the pulsing lights and spinning disco ball set the vibe\, right in the heart of downtown. \nTHURSDAY-FRIDAY FROM 5-10PM \nFind the Rink transformed into a massive outdoor Roller Disco. \n \nRoller Skating Rates \nAdults $9.00 \nChildren (12 & Under) $6.00 \nSeniors (65 & Older) $6.00 \nRental Rates \nSkate Rental $8.41* \nLocker Rental $3.00* \nHelmet Rental $2.00* \nWrist Guard Rental $2.00* \n*Sales Tax Applies  \nA limited number of inline and traditional roller skates will be available to rent first come\, first serve. Guests are welcome to bring their own. Online reservations are encouraged.
URL:https://theprovidencerink.com/event/thursday-roller-disco-2/
END:VEVENT
BEGIN:VEVENT
DTSTART;TZID=America/Halifax:20250731T170000
DTEND;TZID=America/Halifax:20250731T220000
DTSTAMP:20260424T113045
CREATED:20250701T180413Z
LAST-MODIFIED:20250701T180432Z
UID:7448-1753981200-1753999200@theprovidencerink.com
SUMMARY:Thursday Roller Disco
DESCRIPTION:Find the Rink transformed into a massive outdoor Roller Disco. Groove to some great music while the pulsing lights and spinning disco ball set the vibe\, right in the heart of downtown. \nTHURSDAY-FRIDAY FROM 5-10PM \nFind the Rink transformed into a massive outdoor Roller Disco. \n \nRoller Skating Rates \nAdults $9.00 \nChildren (12 & Under) $6.00 \nSeniors (65 & Older) $6.00 \nRental Rates \nSkate Rental $8.41* \nLocker Rental $3.00* \nHelmet Rental $2.00* \nWrist Guard Rental $2.00* \n*Sales Tax Applies  \nA limited number of inline and traditional roller skates will be available to rent first come\, first serve. Guests are welcome to bring their own. Online reservations are encouraged.
URL:https://theprovidencerink.com/event/thursday-roller-disco-4/
END:VEVENT
BEGIN:VEVENT
DTSTART;TZID=America/Halifax:20250725T080000
DTEND;TZID=America/Halifax:20250725T220000
DTSTAMP:20260424T113045
CREATED:20250701T181036Z
LAST-MODIFIED:20250701T181036Z
UID:7460-1753430400-1753480800@theprovidencerink.com
SUMMARY:Liberian Independence Day Event
DESCRIPTION:No Roller Disco \n  \nClosed for Private Event
URL:https://theprovidencerink.com/event/liberian-independence-day-event/
END:VEVENT
BEGIN:VEVENT
DTSTART;TZID=America/Halifax:20250724T170000
DTEND;TZID=America/Halifax:20250724T220000
DTSTAMP:20260424T113045
CREATED:20250701T175623Z
LAST-MODIFIED:20250701T175720Z
UID:7441-1753376400-1753394400@theprovidencerink.com
SUMMARY:Thursday Roller Disco
DESCRIPTION:Find the Rink transformed into a massive outdoor Roller Disco. Groove to some great music while the pulsing lights and spinning disco ball set the vibe\, right in the heart of downtown. \nTHURSDAY-FRIDAY FROM 5-10PM \nFind the Rink transformed into a massive outdoor Roller Disco. \n \nRoller Skating Rates \nAdults $9.00 \nChildren (12 & Under) $6.00 \nSeniors (65 & Older) $6.00 \nRental Rates \nSkate Rental $8.41* \nLocker Rental $3.00* \nHelmet Rental $2.00* \nWrist Guard Rental $2.00* \n*Sales Tax Applies  \nA limited number of inline and traditional roller skates will be available to rent first come\, first serve. Guests are welcome to bring their own. Online reservations are encouraged.
URL:https://theprovidencerink.com/event/thursday-roller-disco/
END:VEVENT
BEGIN:VEVENT
DTSTART;TZID=America/Halifax:20250718T170000
DTEND;TZID=America/Halifax:20250718T220000
DTSTAMP:20260424T113045
CREATED:20250701T175547Z
LAST-MODIFIED:20250701T175547Z
UID:7439-1752858000-1752876000@theprovidencerink.com
SUMMARY:Friday Roller Disco
DESCRIPTION:Find the Rink transformed into a massive outdoor Roller Disco. Groove to some great music while the pulsing lights and spinning disco ball set the vibe\, right in the heart of downtown. \nTHURSDAY-FRIDAY FROM 5-10PM \nFind the Rink transformed into a massive outdoor Roller Disco. \n \nRoller Skating Rates \nAdults $9.00 \nChildren (12 & Under) $6.00 \nSeniors (65 & Older) $6.00 \nRental Rates \nSkate Rental $8.41* \nLocker Rental $3.00* \nHelmet Rental $2.00* \nWrist Guard Rental $2.00* \n*Sales Tax Applies  \nA limited number of inline and traditional roller skates will be available to rent first come\, first serve. Guests are welcome to bring their own. Online reservations are encouraged.
URL:https://theprovidencerink.com/event/friday-roller-disco/
END:VEVENT
BEGIN:VEVENT
DTSTART;TZID=America/Halifax:20250717T170000
DTEND;TZID=America/Halifax:20250717T220000
DTSTAMP:20260424T113045
CREATED:20250701T174925Z
LAST-MODIFIED:20250701T175516Z
UID:7436-1752771600-1752789600@theprovidencerink.com
SUMMARY:Roller Disco - Roller Skating
DESCRIPTION:Find the Rink transformed into a massive outdoor Roller Disco. Groove to some great music while the pulsing lights and spinning disco ball set the vibe\, right in the heart of downtown. \nTHURSDAY-FRIDAY FROM 5-10PM \nFind the Rink transformed into a massive outdoor Roller Disco. \n \nRoller Skating Rates \nAdults $9.00 \nChildren (12 & Under) $6.00 \nSeniors (65 & Older) $6.00 \nRental Rates \nSkate Rental $8.41* \nLocker Rental $3.00* \nHelmet Rental $2.00* \nWrist Guard Rental $2.00* \n*Sales Tax Applies  \nA limited number of inline and traditional roller skates will be available to rent first come\, first serve. Guests are welcome to bring their own. Online reservations are encouraged.
URL:https://theprovidencerink.com/event/roller-disco-roller-skating-7/
END:VEVENT
BEGIN:VEVENT
DTSTART;TZID=America/Halifax:20250711T170000
DTEND;TZID=America/Halifax:20250711T220000
DTSTAMP:20260424T113045
CREATED:20250701T173934Z
LAST-MODIFIED:20250701T173934Z
UID:7423-1752253200-1752271200@theprovidencerink.com
SUMMARY:Roller Disco - Roller Skating
DESCRIPTION:Find the Rink transformed into a massive outdoor Roller Disco. Groove to some great music while the pulsing lights and spinning disco ball set the vibe\, right in the heart of downtown. \nTHURSDAY-FRIDAY FROM 5-10PM \nFind the Rink transformed into a massive outdoor Roller Disco. \n \nRoller Skating Rates \nAdults $9.00 \nChildren (12 & Under) $6.00 \nSeniors (65 & Older) $6.00 \nRental Rates \nSkate Rental $8.41* \nLocker Rental $3.00* \nHelmet Rental $2.00* \nWrist Guard Rental $2.00* \n*Sales Tax Applies  \nA limited number of inline and traditional roller skates will be available to rent first come\, first serve. Guests are welcome to bring their own. Online reservations are encouraged.
URL:https://theprovidencerink.com/event/roller-disco-roller-skating-4/
END:VEVENT
BEGIN:VEVENT
DTSTART;TZID=America/Halifax:20250710T170000
DTEND;TZID=America/Halifax:20250710T220000
DTSTAMP:20260424T113045
CREATED:20250701T173851Z
LAST-MODIFIED:20250701T173851Z
UID:7420-1752166800-1752184800@theprovidencerink.com
SUMMARY:Roller Disco - Roller Skating
DESCRIPTION:Find the Rink transformed into a massive outdoor Roller Disco. Groove to some great music while the pulsing lights and spinning disco ball set the vibe\, right in the heart of downtown. \nTHURSDAY-FRIDAY FROM 5-10PM \nFind the Rink transformed into a massive outdoor Roller Disco. \n \nRoller Skating Rates \nAdults $9.00 \nChildren (12 & Under) $6.00 \nSeniors (65 & Older) $6.00 \nRental Rates \nSkate Rental $8.41* \nLocker Rental $3.00* \nHelmet Rental $2.00* \nWrist Guard Rental $2.00* \n*Sales Tax Applies  \nA limited number of inline and traditional roller skates will be available to rent first come\, first serve. Guests are welcome to bring their own. Online reservations are encouraged.
URL:https://theprovidencerink.com/event/roller-disco-roller-skating-3/
END:VEVENT
BEGIN:VEVENT
DTSTART;TZID=America/Halifax:20250705T150000
DTEND;TZID=America/Halifax:20250705T200000
DTSTAMP:20260424T113045
CREATED:20250701T173126Z
LAST-MODIFIED:20250701T173701Z
UID:7413-1751727600-1751745600@theprovidencerink.com
SUMMARY:1st Saturday Roller Disco - Roller Skating
DESCRIPTION:Find the Rink transformed into a massive outdoor Roller Disco. Groove to some great music while the pulsing lights and spinning disco ball set the vibe\, right in the heart of downtown. \nSATURDAY 3:00PM – 8:00PM \nFind the Rink transformed into a massive outdoor Roller Disco. \n \nRoller Skating Rates \nAdults $9.00 \nChildren (12 & Under) $6.00 \nSeniors (65 & Older) $6.00 \nRental Rates \nSkate Rental $8.41* \nLocker Rental $3.00* \nHelmet Rental $2.00* \nWrist Guard Rental $2.00* \n*Sales Tax Applies  \nA limited number of inline and traditional roller skates will be available to rent first come\, first serve. Guests are welcome to bring their own. Online reservations are encouraged.
URL:https://theprovidencerink.com/event/1st-saturday-roller-disco-roller-skating/
END:VEVENT
BEGIN:VEVENT
DTSTART;TZID=America/Halifax:20250704T170000
DTEND;TZID=America/Halifax:20250704T220000
DTSTAMP:20260424T113045
CREATED:20250701T172438Z
LAST-MODIFIED:20250701T172514Z
UID:7409-1751648400-1751666400@theprovidencerink.com
SUMMARY:Roller Disco - Roller Skating
DESCRIPTION:Find the Rink transformed into a massive outdoor Roller Disco. Groove to some great music while the pulsing lights and spinning disco ball set the vibe\, right in the heart of downtown. \nTHURSDAY-FRIDAY FROM 5-10PM  \nFind the Rink transformed into a massive outdoor Roller Disco. \nRoller Skating Rates \nAdults $9.00 \nChildren (12 & Under) $6.00 \nSeniors (65 & Older) $6.00 \nRental Rates \nSkate Rental $8.41* \nLocker Rental $3.00* \nHelmet Rental $2.00* \nWrist Guard Rental $2.00* \n*Sales Tax Applies  \nA limited number of inline and traditional roller skates will be available to rent first come\, first serve. Guests are welcome to bring their own. Online reservations are encouraged.
URL:https://theprovidencerink.com/event/roller-disco-roller-skating-2/
END:VEVENT
BEGIN:VEVENT
DTSTART;TZID=America/Halifax:20250703T170000
DTEND;TZID=America/Halifax:20250703T220000
DTSTAMP:20260424T113045
CREATED:20250701T171705Z
LAST-MODIFIED:20250701T171949Z
UID:7403-1751562000-1751580000@theprovidencerink.com
SUMMARY:Roller Disco - Roller Skating
DESCRIPTION:Skating in Downtown \nFind the Rink transformed into a massive outdoor Roller Disco. Groove to some great music while the pulsing lights and spinning disco ball set the vibe\, right in the heart of downtown. \nTHURSDAY-FRIDAY FROM 5-10PM  \nFind the Rink transformed into a massive outdoor Roller Disco. \nRoller Skating Rates \nAdults $9.00 \nChildren (12 & Under) $6.00 \nSeniors (65 & Older) $6.00 \nRental Rates \nSkate Rental $8.41* \nLocker Rental $3.00* \nHelmet Rental $2.00* \nWrist Guard Rental $2.00* \n*Sales Tax Applies  \nA limited number of inline and traditional roller skates will be available to rent first come\, first serve. Guests are welcome to bring their own. Online reservations are encouraged.
URL:https://theprovidencerink.com/event/roller-disco-roller-skating/
CATEGORIES:Skating
END:VEVENT
BEGIN:VEVENT
DTSTART;TZID=America/Halifax:20250207T190000
DTEND;TZID=America/Halifax:20250207T193000
DTSTAMP:20260424T113045
CREATED:20250202T161522Z
LAST-MODIFIED:20250202T161950Z
UID:7272-1738954800-1738956600@theprovidencerink.com
SUMMARY:Ice Dance International (Performance 2)
DESCRIPTION:Head to the Providence Rink for an illuminated performance from Maine-based Ice Dance International! IDI exists to showcase and promote ice dancing as an internationally recognized performing art form. With a professional company and board of directors of figure skaters and choreographers including World\, Olympic and National champions\, IDI brings ice dance performances of the highest caliber to communities across the United States.\nFriday\, February 7\, 2025\n 7:00 PM – 7:30 PM\n 
URL:https://theprovidencerink.com/event/ice-dance-international-performance-2/
END:VEVENT
BEGIN:VEVENT
DTSTART;TZID=America/Halifax:20250207T170000
DTEND;TZID=America/Halifax:20250207T173000
DTSTAMP:20260424T113045
CREATED:20250202T161344Z
LAST-MODIFIED:20250202T162028Z
UID:7267-1738947600-1738949400@theprovidencerink.com
SUMMARY:Ice Dance International (Performance 1)
DESCRIPTION:Head to the Providence Rink for an illuminated performance from Maine-based Ice Dance International! IDI exists to showcase and promote ice dancing as an internationally recognized performing art form. With a professional company and board of directors of figure skaters and choreographers including World\, Olympic and National champions\, IDI brings ice dance performances of the highest caliber to communities across the United States.\nFriday\, February 7\, 2025\n 5:00 PM – 5:30 PM
URL:https://theprovidencerink.com/event/ice-dance-international/
END:VEVENT
BEGIN:VEVENT
DTSTART;TZID=America/Halifax:20250205T180000
DTEND;TZID=America/Halifax:20250205T200000
DTSTAMP:20260424T113045
CREATED:20250202T162405Z
LAST-MODIFIED:20250202T162405Z
UID:7277-1738778400-1738785600@theprovidencerink.com
SUMMARY:College Night
DESCRIPTION:
URL:https://theprovidencerink.com/event/college-night/
END:VEVENT
BEGIN:VEVENT
DTSTART;VALUE=DATE:20250201
DTEND;VALUE=DATE:20250218
DTSTAMP:20260424T113045
CREATED:20250202T160842Z
LAST-MODIFIED:20250202T160842Z
UID:7264-1738368000-1739836799@theprovidencerink.com
SUMMARY:Lumina - Outdoor Art Installations
DESCRIPTION:From February 1st to February 17th\, 2025\, downtown Providence will once again transform into a vibrant winter wonderland for the Lumina 2025 Festival.  \n POP! Installation and musical experiences by LeMounde Studios downtown\, along with captivating performances. 
URL:https://theprovidencerink.com/event/lumina-outdoor-art-installations/
END:VEVENT
BEGIN:VEVENT
DTSTART;TZID=America/Halifax:20240607T170000
DTEND;TZID=America/Halifax:20240607T210000
DTSTAMP:20260424T113045
CREATED:20240606T160245Z
LAST-MODIFIED:20240606T160247Z
UID:7104-1717779600-1717794000@theprovidencerink.com
SUMMARY:Roller Disco Tour
DESCRIPTION:Introducing a city-wide Roller Disco Tour\, strategically activating Neighborhood Parks through a series of pop-up roller skating events. The tour is designed to foster community spirit\, enhance the utilization of green spaces\, and engage diverse audiences in historically underserved areas.
URL:https://theprovidencerink.com/event/roller-disco-tour/
LOCATION:Merino Park\, 100 Heath Avenue\, Providence\, RI\, United States
END:VEVENT
END:VCALENDAR